BEGIN:VCALENDAR
VERSION:2.0
PRODID:-//Squarespace Inc/Squarespace 6//v6//EN
BEGIN:VEVENT
UID:58ad258b2e69cfe4c7ac7924@squarespace.com
DTSTAMP:20180125T091303Z
DTSTART:20180323T073000Z
DTEND:20180323T123000Z
SUMMARY:Boss Drinks
END:VEVENT
END:VCALENDAR
