BEGIN:VCALENDAR
VERSION:2.0
PRODID:-//Squarespace Inc/Squarespace 6//v6//EN
BEGIN:VEVENT
UID:5a69945df9619adf7957bb3f@squarespace.com
DTSTAMP:20180228T053257Z
DTSTART:20180303T203000Z
DTEND:20180304T003000Z
SUMMARY:1000 Steps with Boss
END:VEVENT
END:VCALENDAR
