BEGIN:VCALENDAR
VERSION:2.0
PRODID:-//Squarespace Inc/Squarespace 6//v6//EN
BEGIN:VEVENT
UID:5a69959dc83025d0fb02f366@squarespace.com
DTSTAMP:20180305T013137Z
DTSTART:20180318T190000Z
DTEND:20180322T200000Z
SUMMARY:Member's Week
END:VEVENT
END:VCALENDAR
