BEGIN:VCALENDAR
VERSION:2.0
PRODID:-//Squarespace Inc/Squarespace 6//v6//EN
BEGIN:VEVENT
UID:5a6992438165f5523ae619ee@squarespace.com
DTSTAMP:20180125T082332Z
DTSTART:20180202T210000Z
DTEND:20180202T220000Z
SUMMARY:Beach Session
GEO:-37.988339;145.059643
LOCATION:Boss Gym\, mentone Beach Road\, Mentone\, VIC\, 3194\, Australia
END:VEVENT
END:VCALENDAR
