BEGIN:VCALENDAR
VERSION:2.0
PRODID:-//Squarespace Inc/Squarespace 6//v6//EN
BEGIN:VEVENT
UID:5cc7ca63e5e5f0210970e658@squarespace.com
DTSTAMP:20190430T041159Z
DTSTART:20191011T210000Z
DTEND:20191011T220000Z
SUMMARY:Kettlebell Workshop
END:VEVENT
END:VCALENDAR
