BEGIN:VCALENDAR
VERSION:2.0
PRODID:-//Squarespace Inc/Squarespace 6//v6//EN
BEGIN:VEVENT
UID:5c661ea4ee6eb04f211d7ab7@squarespace.com
DTSTAMP:20190215T021101Z
DTSTART:20191018T230000Z
DTEND:20191019T060000Z
SUMMARY:Tough Mudder 
GEO:40.720756;-74.000761
LOCATION:Location TBC
END:VEVENT
END:VCALENDAR
