BEGIN:VCALENDAR
VERSION:2.0
PRODID:-//Squarespace Inc/Squarespace 6//v6//EN
BEGIN:VEVENT
UID:5c661fedeb39316b5704a54f@squarespace.com
DTSTAMP:20190501T004915Z
DTSTART:20191208T184500Z
DTEND:20191213T233000Z
SUMMARY:Fitness Testing &amp\; Measurements
END:VEVENT
END:VCALENDAR
