BEGIN:VCALENDAR
VERSION:2.0
PRODID:-//Squarespace Inc/Squarespace 6//v6//EN
BEGIN:VEVENT
UID:5c662036104c7b5c17ab9675@squarespace.com
DTSTAMP:20190215T022054Z
DTSTART:20191030T184500Z
DTEND:20191031T083000Z
SUMMARY:Halloween Fundraiser 
END:VEVENT
END:VCALENDAR
