BEGIN:VCALENDAR
VERSION:2.0
PRODID:-//Squarespace Inc/Squarespace 6//v6//EN
BEGIN:VEVENT
UID:5cc7c9f2fa0d6046f3f92ba5@squarespace.com
DTSTAMP:20190430T040848Z
DTSTART:20191004T220000Z
DTEND:20191004T230000Z
SUMMARY:Kettlebell Workshop
END:VEVENT
END:VCALENDAR
