BEGIN:VCALENDAR
VERSION:2.0
PRODID:-//Squarespace Inc/Squarespace 6//v6//EN
BEGIN:VEVENT
UID:5cc7cd12f4e1fcd5f0b6bd1f@squarespace.com
DTSTAMP:20190501T004946Z
DTSTART:20191101T203000Z
DTEND:20191101T223000Z
SUMMARY:Movemeber 
END:VEVENT
END:VCALENDAR
