BEGIN:VCALENDAR
VERSION:2.0
PRODID:-//Squarespace Inc/Squarespace 6//v6//EN
BEGIN:VEVENT
UID:5cc7e867eef1a10ec8e91532@squarespace.com
DTSTAMP:20190430T061756Z
DTSTART:20191115T203000Z
DTEND:20191115T223000Z
SUMMARY:Movember 
END:VEVENT
END:VCALENDAR
