BEGIN:VCALENDAR
VERSION:2.0
PRODID:-//Squarespace Inc/Squarespace 6//v6//EN
BEGIN:VEVENT
UID:5cc7e8c1104c7b28d8c3ec06@squarespace.com
DTSTAMP:20190430T061914Z
DTSTART:20191122T203000Z
DTEND:20191122T223000Z
SUMMARY:Movember 
END:VEVENT
END:VCALENDAR
