BEGIN:VCALENDAR
VERSION:2.0
PRODID:-//Squarespace Inc/Squarespace 6//v6//EN
BEGIN:VEVENT
UID:5c638d5cfa0d60099a8fa7fd@squarespace.com
DTSTAMP:20190218T034944Z
DTSTART:20190222T073000Z
DTEND:20190222T113000Z
SUMMARY:Boss Drinks 
GEO:-38.008795;145.084083
LOCATION:SunnyBoy Beach Club\, 212 Bay Trail\, Mordialloc\, VIC\, 3195\, Au
 stralia
END:VEVENT
END:VCALENDAR
