BEGIN:VCALENDAR
VERSION:2.0
PRODID:-//Squarespace Inc/Squarespace 6//v6//EN
BEGIN:VEVENT
UID:5c6391304e17b64229c31075@squarespace.com
DTSTAMP:20190214T194852Z
DTSTART:20190303T184500Z
DTEND:20190308T223000Z
SUMMARY:Fitness Testing &amp\; Measurements
END:VEVENT
END:VCALENDAR
