BEGIN:VCALENDAR
VERSION:2.0
PRODID:-//Squarespace Inc/Squarespace 6//v6//EN
BEGIN:VEVENT
UID:5c65f63215fcc0637531c473@squarespace.com
DTSTAMP:20190214T232329Z
DTSTART:20190302T210000Z
DTEND:20190302T220000Z
SUMMARY:Boss Beach Session
GEO:-37.989025;145.060443
LOCATION:mentone Beach Road\, Vic 3194\, Australia
END:VEVENT
END:VCALENDAR
