BEGIN:VCALENDAR
VERSION:2.0
PRODID:-//Squarespace Inc/Squarespace 6//v6//EN
BEGIN:VEVENT
UID:5c661829b208fc15565671d2@squarespace.com
DTSTAMP:20190430T032157Z
DTSTART:20190617T074500Z
DTEND:20190621T123000Z
SUMMARY:Members Week 
END:VEVENT
END:VCALENDAR
