BEGIN:VCALENDAR
VERSION:2.0
PRODID:-//Squarespace Inc/Squarespace 6//v6//EN
BEGIN:VEVENT
UID:5c661d43eef1a1c495065aac@squarespace.com
DTSTAMP:20190501T004735Z
DTSTART:20191020T184500Z
DTEND:20191025T223000Z
SUMMARY:Fitness Testing &amp\; Measurements
END:VEVENT
END:VCALENDAR
