BEGIN:VCALENDAR
VERSION:2.0
PRODID:-//Squarespace Inc/Squarespace 6//v6//EN
BEGIN:VEVENT
UID:5c65f8ce6e9a7f7c7fb9774c@squarespace.com
DTSTAMP:20190214T234612Z
DTSTART:20190518T220000Z
DTEND:20190518T230000Z
SUMMARY:Million Paws Walk
GEO:-37.847003;144.97179
LOCATION:Lakeside Drive\, Albert Park VIC
END:VEVENT
END:VCALENDAR
