BEGIN:VCALENDAR
VERSION:2.0
PRODID:-//Squarespace Inc/Squarespace 6//v6//EN
BEGIN:VEVENT
UID:5c5cd19d24a694ad0af9e159@squarespace.com
DTSTAMP:20190227T092822Z
DTSTART:20190323T230000Z
DTEND:20190324T040000Z
SUMMARY:Annual Fundraiser
END:VEVENT
END:VCALENDAR
