BEGIN:VCALENDAR
VERSION:2.0
PRODID:-//Squarespace Inc/Squarespace 6//v6//EN
BEGIN:VEVENT
UID:5c6f4b0171c10b9ae217b4f7@squarespace.com
DTSTAMP:20210122T094749Z
DTSTART:20210219T203000Z
DTEND:20210219T213000Z
SUMMARY:Member Partner Comp
END:VEVENT
END:VCALENDAR
