BEGIN:VCALENDAR
VERSION:2.0
PRODID:-//Squarespace Inc/Squarespace 6//v6//EN
BEGIN:VEVENT
UID:5c6f4e8fb208fc21026bf6be@squarespace.com
DTSTAMP:20210122T090822Z
DTSTART:20210205T203000Z
DTEND:20210205T213000Z
SUMMARY:Member Partner Comp
END:VEVENT
END:VCALENDAR
