BEGIN:VCALENDAR
VERSION:2.0
PRODID:-//Squarespace Inc/Squarespace 6//v6//EN
BEGIN:VEVENT
UID:5c65fde86e9a7f7c7fb9b5ce@squarespace.com
DTSTAMP:20190215T020444Z
DTSTART:20190524T080000Z
DTEND:20190524T130000Z
SUMMARY:Boss Drinks 
GEO:40.720756;-74.000761
LOCATION:Location TBC
END:VEVENT
END:VCALENDAR
