BEGIN:VCALENDAR
VERSION:2.0
PRODID:-//Squarespace Inc/Squarespace 6//v6//EN
BEGIN:VEVENT
UID:5c65f5100852298585cfbfa8@squarespace.com
DTSTAMP:20190501T003108Z
DTSTART:20190630T194500Z
DTEND:20190706T003000Z
SUMMARY:Fitness Testing &amp\; Measurements
END:VEVENT
END:VCALENDAR
