BEGIN:VCALENDAR
VERSION:2.0
PRODID:-//Squarespace Inc/Squarespace 6//v6//EN
BEGIN:VEVENT
UID:5c661bfc53450af35d0987cb@squarespace.com
DTSTAMP:20190215T015713Z
DTSTART:20190719T080000Z
DTEND:20190719T130000Z
SUMMARY:Boss Drinks
GEO:49.197507;-123.058988
LOCATION:Location TBC
END:VEVENT
END:VCALENDAR
