BEGIN:VCALENDAR
VERSION:2.0
PRODID:-//Squarespace Inc/Squarespace 6//v6//EN
BEGIN:VEVENT
UID:5cc7c1a9971a182186a1bd0d@squarespace.com
DTSTAMP:20190430T034212Z
DTSTART:20190726T220000Z
DTEND:20190727T040000Z
SUMMARY:External Competition 
END:VEVENT
END:VCALENDAR
