BEGIN:VCALENDAR
VERSION:2.0
PRODID:-//Squarespace Inc/Squarespace 6//v6//EN
BEGIN:VEVENT
UID:5cc8eb0c71c10b013fee4da0@squarespace.com
DTSTAMP:20190501T004125Z
DTSTART:20190809T213000Z
DTEND:20190809T233000Z
SUMMARY:Member Partner Comp - Retest!
END:VEVENT
END:VCALENDAR
