BEGIN:VCALENDAR
VERSION:2.0
PRODID:-//Squarespace Inc/Squarespace 6//v6//EN
BEGIN:VEVENT
UID:5cc8eb48eef1a1e927935611@squarespace.com
DTSTAMP:20190501T004217Z
DTSTART:20190816T213000Z
DTEND:20190816T233000Z
SUMMARY:Member Partner Comp - Retest!
END:VEVENT
END:VCALENDAR
