BEGIN:VCALENDAR
VERSION:2.0
PRODID:-//Squarespace Inc/Squarespace 6//v6//EN
BEGIN:VEVENT
UID:5cc8eb71d90fb2000162c8a2@squarespace.com
DTSTAMP:20190501T004315Z
DTSTART:20190823T213000Z
DTEND:20190823T233000Z
SUMMARY:Member Partner Comp - Retest!
END:VEVENT
END:VCALENDAR
