BEGIN:VCALENDAR
VERSION:2.0
PRODID:-//Squarespace Inc/Squarespace 6//v6//EN
BEGIN:VEVENT
UID:5cc8e9fe15fcc002d2e9c4b9@squarespace.com
DTSTAMP:20190501T004035Z
DTSTART:20190802T213000Z
DTEND:20190802T233000Z
SUMMARY:Member Partner Comp - Retest!
END:VEVENT
END:VCALENDAR
