BEGIN:VCALENDAR
VERSION:2.0
PRODID:-//Squarespace Inc/Squarespace 6//v6//EN
BEGIN:VEVENT
UID:5cc7e826c830251f28cefcc0@squarespace.com
DTSTAMP:20190430T061828Z
DTSTART:20191108T203000Z
DTEND:20191108T223000Z
SUMMARY:Movember 
END:VEVENT
END:VCALENDAR
