BEGIN:VCALENDAR
VERSION:2.0
PRODID:-//Squarespace Inc/Squarespace 6//v6//EN
BEGIN:VEVENT
UID:5cc7c7d5f56535000156e4dc@squarespace.com
DTSTAMP:20190430T040555Z
DTSTART:20190920T220000Z
DTEND:20190920T230000Z
SUMMARY:Kettlebell Workshop
END:VEVENT
END:VCALENDAR
