BEGIN:VCALENDAR
VERSION:2.0
PRODID:-//Squarespace Inc/Squarespace 6//v6//EN
BEGIN:VEVENT
UID:5cc7c9b1e4966b1f82d8a752@squarespace.com
DTSTAMP:20190430T040650Z
DTSTART:20190927T220000Z
DTEND:20190927T230000Z
SUMMARY:Kettlebell Workshop
END:VEVENT
END:VCALENDAR
