BEGIN:VCALENDAR
VERSION:2.0
PRODID:-//Squarespace Inc/Squarespace 6//v6//EN
BEGIN:VEVENT
UID:600a6a3cfae731185ae21728@squarespace.com
DTSTAMP:20210123T223302Z
DTSTART:20210206T060000Z
DTEND:20210206T123000Z
SUMMARY:Boss Drinks 
GEO:40.720756;-74.000761
LOCATION:Location TBC
END:VEVENT
END:VCALENDAR
